BEGIN:VCALENDAR
VERSION:2.0
METHOD:PUBLISH
CALSCALE:GREGORIAN
PRODID:-//WordPress - MECv7.28.0//EN
X-ORIGINAL-URL:https://fishersband.org/
X-WR-CALNAME:Fishers High School Tiger Band
X-WR-CALDESC:Marching Band, Guard, Percussion, Jazz Band, Concert Band
X-WR-TIMEZONE:America/Indiana/Indianapolis
BEGIN:VTIMEZONE
TZID:America/Indiana/Indianapolis
X-LIC-LOCATION:America/Indiana/Indianapolis
BEGIN:DAYLIGHT
TZOFFSETFROM:-0500
TZOFFSETTO:-0400
TZNAME:EDT
DTSTART:20260308T030000
RRULE:FREQ=YEARLY;BYMONTH=03;BYDAY=2SU
END:DAYLIGHT
BEGIN:STANDARD
TZOFFSETFROM:-0400
TZOFFSETTO:-0500
TZNAME:EST
DTSTART:20261101T010000
RRULE:FREQ=YEARLY;BYMONTH=11;BYDAY=1SU
END:STANDARD
END:VTIMEZONE
REFRESH-INTERVAL;VALUE=DURATION:PT1H
X-PUBLISHED-TTL:PT1H
X-MS-OLK-FORCEINSPECTOROPEN:TRUE
BEGIN:VEVENT
CLASS:PUBLIC
UID:MEC-bb1d997f445b6a780041ff1668729b94@fishersband.org
DTSTART;TZID=America/Indiana/Indianapolis:20261112T000000
DTEND;TZID=America/Indiana/Indianapolis:20261115T000000
DTSTAMP:20260116T160424Z
CREATED:20260116
LAST-MODIFIED:20260116
PRIORITY:5
SEQUENCE:1
TRANSP:OPAQUE
SUMMARY:Contest Day – BOA Grand Nationals
DESCRIPTION:More information and itinerary to come closer to date! Stay tuned!\n
URL:https://fishersband.org/events/contest-day-boa-grand-nationals-2
CATEGORIES:Brass,Guard,Marching Band,Percussion,Woodwinds
END:VEVENT
BEGIN:VEVENT
CLASS:PUBLIC
UID:MEC-a0b36aa0208b361e4103380fb34694bf@fishersband.org
DTSTART;TZID=America/Indiana/Indianapolis:20261107T000000
DTEND;TZID=America/Indiana/Indianapolis:20261108T000000
DTSTAMP:20260116T160340Z
CREATED:20260116
LAST-MODIFIED:20260117
PRIORITY:5
SEQUENCE:4
TRANSP:OPAQUE
SUMMARY:Contest Day
DESCRIPTION:More information and itinerary to come closer to date! Stay tuned!\n
URL:https://fishersband.org/events/contest-day1
CATEGORIES:Brass,Guard,Marching Band,Percussion,Woodwinds
END:VEVENT
BEGIN:VEVENT
CLASS:PUBLIC
UID:MEC-001d47bd412e7c944a91f0e63fafa70c@fishersband.org
DTSTART;TZID=America/Indiana/Indianapolis:20261031T000000
DTEND;TZID=America/Indiana/Indianapolis:20261101T000000
DTSTAMP:20260116T160254Z
CREATED:20260116
LAST-MODIFIED:20260117
PRIORITY:5
SEQUENCE:2
TRANSP:OPAQUE
SUMMARY:Contest Day or Camp Day – all members – TBD
DESCRIPTION:More information and itinerary to come closer to date! Stay tuned!\n
URL:https://fishersband.org/events/contest-day-or-camp-day-all-members
CATEGORIES:Brass,Guard,Marching Band,Percussion,Woodwinds
END:VEVENT
BEGIN:VEVENT
CLASS:PUBLIC
UID:MEC-51ac44a07a22f44b4ae0895fdcf9e317@fishersband.org
DTSTART;TZID=America/Indiana/Indianapolis:20261024T000000
DTEND;TZID=America/Indiana/Indianapolis:20261025T000000
DTSTAMP:20260116T160159Z
CREATED:20260116
LAST-MODIFIED:20260117
PRIORITY:5
SEQUENCE:2
TRANSP:OPAQUE
SUMMARY:Contest Day
DESCRIPTION:More information and itinerary to come closer to date! Stay tuned!\n
URL:https://fishersband.org/events/contest-day2
CATEGORIES:Brass,Guard,Marching Band,Percussion,Woodwinds
END:VEVENT
BEGIN:VEVENT
CLASS:PUBLIC
UID:MEC-ac7ed855f313b05391de74046180fb34@fishersband.org
DTSTART;TZID=America/Indiana/Indianapolis:20261016T000000
DTEND;TZID=America/Indiana/Indianapolis:20261018T000000
DTSTAMP:20260116T155953Z
CREATED:20260116
LAST-MODIFIED:20260116
PRIORITY:5
SEQUENCE:1
TRANSP:OPAQUE
SUMMARY:Contest Day – BOA Indy Super Regional
DESCRIPTION:More information and itinerary to come closer to date! Stay tuned!\n
URL:https://fishersband.org/events/contest-day-boa-indy-super-regional-2
CATEGORIES:Brass,Guard,Marching Band,Percussion,Woodwinds
END:VEVENT
BEGIN:VEVENT
CLASS:PUBLIC
UID:MEC-e030f4ce7b18cf7d8e835512b49f03e0@fishersband.org
DTSTART;TZID=America/Indiana/Indianapolis:20261010T000000
DTEND;TZID=America/Indiana/Indianapolis:20261011T000000
DTSTAMP:20260116T155903Z
CREATED:20260116
LAST-MODIFIED:20260117
PRIORITY:5
SEQUENCE:2
TRANSP:OPAQUE
SUMMARY:Contest Day
DESCRIPTION:More information and itinerary to come closer to date! Stay tuned!\n
URL:https://fishersband.org/events/contest-day3
CATEGORIES:Brass,Guard,Marching Band,Percussion,Woodwinds
END:VEVENT
BEGIN:VEVENT
CLASS:PUBLIC
UID:MEC-9058c666789874c718d1976270cee814@fishersband.org
DTSTART;TZID=America/Indiana/Indianapolis:20261003T000000
DTEND;TZID=America/Indiana/Indianapolis:20261004T000000
DTSTAMP:20260116T155815Z
CREATED:20260116
LAST-MODIFIED:20260116
PRIORITY:5
SEQUENCE:1
TRANSP:OPAQUE
SUMMARY:Contest Day – Fishers Invitational
DESCRIPTION:More information and itinerary to come closer to date! Stay tuned!\n
URL:https://fishersband.org/events/contest-day-fishers-invitational-2
CATEGORIES:Brass,Community Event,Guard,Marching Band,Percussion,Woodwinds
END:VEVENT
BEGIN:VEVENT
CLASS:PUBLIC
UID:MEC-f6c4718557e1197ecdbe1b7ff52975d2@fishersband.org
DTSTART;TZID=America/Indiana/Indianapolis:20260926T000000
DTEND;TZID=America/Indiana/Indianapolis:20260927T000000
DTSTAMP:20260116T155733Z
CREATED:20260116
LAST-MODIFIED:20260116
PRIORITY:5
SEQUENCE:1
TRANSP:OPAQUE
SUMMARY:Contest Day – Avon Invitational
DESCRIPTION:More information and itinerary to come closer to date! Stay tuned!\n
URL:https://fishersband.org/events/contest-day-avon-invitational
CATEGORIES:Brass,Guard,Marching Band,Percussion,Woodwinds
END:VEVENT
BEGIN:VEVENT
CLASS:PUBLIC
UID:MEC-1991b2c8479598ad84ed59f5446bb589@fishersband.org
DTSTART;TZID=America/Indiana/Indianapolis:20260919T000000
DTEND;TZID=America/Indiana/Indianapolis:20260920T000000
DTSTAMP:20260116T155654Z
CREATED:20260116
LAST-MODIFIED:20260116
PRIORITY:5
SEQUENCE:1
TRANSP:OPAQUE
SUMMARY:Contest Day – Lawrence Central Invitational
DESCRIPTION:More information and itinerary to come closer to date! Stay tuned!\n
URL:https://fishersband.org/events/contest-day-lawrence-central-invitational
CATEGORIES:Brass,Guard,Marching Band,Percussion,Woodwinds
END:VEVENT
BEGIN:VEVENT
CLASS:PUBLIC
UID:MEC-c706723a17a2b2acec4f9ebc9f572e31@fishersband.org
DTSTART;TZID=America/Indiana/Indianapolis:20260808T090000
DURATION:PT8H
DTSTAMP:20260116T155231Z
RDATE;TZID=America/Indiana/Indianapolis:20260808T090000,20260815T090000,20260822T090000,20260829T090000,20260912T090000,20261022T090000,20261023T090000
CREATED:20260116
LAST-MODIFIED:20260117
PRIORITY:5
SEQUENCE:3
TRANSP:OPAQUE
SUMMARY:Camp Day – All members
DESCRIPTION:
URL:https://fishersband.org/events/camp-day-all-members-5
CATEGORIES:Brass,Guard,Marching Band,Percussion,Woodwinds
END:VEVENT
BEGIN:VEVENT
CLASS:PUBLIC
UID:MEC-cc0e12fa2fbc6425a7a810921be3eac3@fishersband.org
DTSTART;TZID=America/Indiana/Indianapolis:20260806T180000
DTEND;TZID=America/Indiana/Indianapolis:20260806T210000
DTSTAMP:20260116T154842Z
RDATE;TZID=America/Indiana/Indianapolis:20260806T180000,20260807T151500,20260813T180000,20260814T151500,20260820T180000,20260821T151500,20260827T180000,20260828T151500,20260903T180000,20260904T151500,20260910T180000,20260911T151500,20260917T180000,20260918T151500,20260924T180000,20260925T151500,20261001T180000,20261002T151500,20261008T180000,20261009T151500,20261015T180000,20261016T151500,20261029T180000,20261030T151500,20261105T180000,20261106T151500
CREATED:20260116
LAST-MODIFIED:20260116
PRIORITY:5
SEQUENCE:1
TRANSP:OPAQUE
SUMMARY:Full Band Rehearsal – Winds, Percussion & Guard
DESCRIPTION:
URL:https://fishersband.org/events/full-band-rehearsal-winds-percussion-guard-5
CATEGORIES:Brass,Guard,Marching Band,Percussion,Woodwinds
END:VEVENT
BEGIN:VEVENT
CLASS:PUBLIC
UID:MEC-8af7d74d4c3624a0d00870d1fe1fbded@fishersband.org
DTSTART;TZID=America/Indiana/Indianapolis:20260803T151500
DURATION:PT2H45M
DTSTAMP:20260116T153114Z
RDATE;TZID=America/Indiana/Indianapolis:20260803T151500,20260804T151500,20260810T151500,20260811T151500,20260817T151500,20260818T151500,20260824T151500,20260825T151500,20260831T151500,20260901T151500,20260908T151500,20260914T151500,20260915T151500,20260921T151500,20260922T151500,20260928T151500,20260929T151500,20261005T151500,20261006T151500,20261012T151500,20261013T151500,20261026T151500,20261027T151500,20261102T151500,20261103T151500,20261109T151500,20261110T151500
CREATED:20260116
LAST-MODIFIED:20260116
PRIORITY:5
SEQUENCE:1
TRANSP:OPAQUE
SUMMARY:Wind & Percussion Rehearsal
DESCRIPTION:
URL:https://fishersband.org/events/wind-percussion-rehearsal-5
CATEGORIES:Brass,Marching Band,Percussion,Woodwinds
END:VEVENT
BEGIN:VEVENT
CLASS:PUBLIC
UID:MEC-811cf46d61c9ae564bf7fa4b5abc639b@fishersband.org
DTSTART;TZID=America/Indiana/Indianapolis:20260805T000000
DTEND;TZID=America/Indiana/Indianapolis:20260806T000000
DTSTAMP:20260116T151547Z
CREATED:20260116
LAST-MODIFIED:20260116
PRIORITY:5
SEQUENCE:1
TRANSP:OPAQUE
SUMMARY:Fall Semester Begins!
DESCRIPTION:
URL:https://fishersband.org/events/fall-semester-begins-2
CATEGORIES:Brass,Guard,Marching Band,Percussion,Woodwinds
END:VEVENT
BEGIN:VEVENT
CLASS:PUBLIC
UID:MEC-73ce6453f3ee02be67e4bb2282b6d545@fishersband.org
DTSTART;TZID=America/Indiana/Indianapolis:20260731T180000
DTEND;TZID=America/Indiana/Indianapolis:20260731T210000
DTSTAMP:20260116T151444Z
CREATED:20260116
LAST-MODIFIED:20260116
PRIORITY:5
SEQUENCE:1
TRANSP:OPAQUE
SUMMARY:Family Preview Night
DESCRIPTION:Join us for Family Preview night in the FHS Stadium and see what your tigers have been working on this summer!!\n
URL:https://fishersband.org/events/family-preview-night-2
CATEGORIES:Brass,Guard,Marching Band,Percussion,Woodwinds
END:VEVENT
BEGIN:VEVENT
CLASS:PUBLIC
UID:MEC-079bc08c8671afb7b5d4201a42789f2c@fishersband.org
DTSTART;TZID=America/Indiana/Indianapolis:20260729T073000
DTEND;TZID=America/Indiana/Indianapolis:20260729T120000
DTSTAMP:20260116T151347Z
CREATED:20260116
LAST-MODIFIED:20260116
PRIORITY:5
SEQUENCE:1
TRANSP:OPAQUE
SUMMARY:Fishers Preview Day
DESCRIPTION:ALL marching band students will attend Fishers Preview Day in the morning!\n
URL:https://fishersband.org/events/fishers-preview-day-2
CATEGORIES:Brass,Guard,Marching Band,Percussion,Woodwinds
END:VEVENT
BEGIN:VEVENT
CLASS:PUBLIC
UID:MEC-99242b826d670ac06afdba8de5e424e8@fishersband.org
DTSTART;TZID=America/Indiana/Indianapolis:20260724T200000
DTEND;TZID=America/Indiana/Indianapolis:20260724T220000
DTSTAMP:20260116T151259Z
CREATED:20260116
LAST-MODIFIED:20260116
PRIORITY:5
SEQUENCE:1
TRANSP:OPAQUE
SUMMARY:Pool Party
DESCRIPTION:Details TBD! Stay tuned closer to event!\n
URL:https://fishersband.org/events/pool-party-2
CATEGORIES:Brass,Guard,Marching Band,Percussion,Woodwinds
END:VEVENT
BEGIN:VEVENT
CLASS:PUBLIC
UID:MEC-37286bc401299e97a564f6b42792eb6d@fishersband.org
DTSTART;TZID=America/Indiana/Indianapolis:20260722T080000
DTEND;TZID=America/Indiana/Indianapolis:20260722T123000
DTSTAMP:20260116T151202Z
CREATED:20260116
LAST-MODIFIED:20260116
PRIORITY:5
SEQUENCE:1
TRANSP:OPAQUE
SUMMARY:TIGER FEVER – Incoming Freshman attend this day!
DESCRIPTION:All freshman participating in band will participate in Tiger Fever this morning and then head to practice once finished! It doesn’t matter which day you signed up for, EVERY MARCHER will attend together this day to keep consistency across practices. No need to communicate with Mr. Curtis (who is a guidance counselor) as he has all the names and they have been adjusted accordingly. Thanks for your flexibility in this manner!\n
URL:https://fishersband.org/events/tiger-fever-incoming-freshman-attend-this-day-2
CATEGORIES:Brass,Guard,Marching Band,Percussion,Woodwinds
END:VEVENT
BEGIN:VEVENT
CLASS:PUBLIC
UID:MEC-a830839bbb4a4022a84ff2b8af5c46e0@fishersband.org
DTSTART;TZID=America/Indiana/Indianapolis:20260720T090000
DTEND;TZID=America/Indiana/Indianapolis:20260720T200000
DTSTAMP:20260116T151046Z
RDATE;TZID=America/Indiana/Indianapolis:20260720T090000,20260721T090000,20260722T130000,20260723T090000,20260724T090000,20260727T090000,20260728T090000,20260729T130000,20260730T090000,20260731T090000
CREATED:20260116
LAST-MODIFIED:20260116
PRIORITY:5
SEQUENCE:1
TRANSP:OPAQUE
SUMMARY:July Band Camp – all members
DESCRIPTION:
URL:https://fishersband.org/events/july-band-camp-all-members
CATEGORIES:Brass,Guard,Marching Band,Percussion,Woodwinds
END:VEVENT
BEGIN:VEVENT
CLASS:PUBLIC
UID:MEC-e658047c67a80c47b5ba982ab520b59a@fishersband.org
DTSTART;TZID=America/Indiana/Indianapolis:20260627T180000
DTEND;TZID=America/Indiana/Indianapolis:20260627T210000
DTSTAMP:20260116T150620Z
CREATED:20260116
LAST-MODIFIED:20260116
PRIORITY:5
SEQUENCE:2
TRANSP:OPAQUE
SUMMARY:Spark Fishers Parade
DESCRIPTION:More information will come as we get closer to Parade Day! Stay tuned!\n
URL:https://fishersband.org/events/spark-fishers-parade-3
CATEGORIES:Brass,Guard,Marching Band,Percussion,Woodwinds
END:VEVENT
BEGIN:VEVENT
CLASS:PUBLIC
UID:MEC-2ee4162f4a89db5fa43b3b08900ee370@fishersband.org
DTSTART;TZID=America/Indiana/Indianapolis:20260615T140000
DURATION:PT6H
DTSTAMP:20260116T150526Z
RDATE;TZID=America/Indiana/Indianapolis:20260615T140000,20260616T140000,20260617T140000,20260618T140000,20260619T140000,20260622T140000,20260623T140000,20260624T140000,20260625T140000,20260626T140000
CREATED:20260116
LAST-MODIFIED:20260116
PRIORITY:5
SEQUENCE:1
TRANSP:OPAQUE
SUMMARY:June Band Camp – All Members
DESCRIPTION:Winds, Percussion & Guard! – Bring your own sack dinner!!\n
URL:https://fishersband.org/events/june-band-camp-all-members
CATEGORIES:Brass,Guard,Marching Band,Percussion,Woodwinds
END:VEVENT
BEGIN:VEVENT
CLASS:PUBLIC
UID:MEC-1bdde90ebfdef547440410e79b1877bf@fishersband.org
DTSTART;TZID=America/Indiana/Indianapolis:20260610T140000
DURATION:PT4H
DTSTAMP:20260115T172223Z
RDATE;TZID=America/Indiana/Indianapolis:20260610T140000,20260611T140000,20260612T140000
CREATED:20260115
LAST-MODIFIED:20260115
PRIORITY:5
SEQUENCE:1
TRANSP:OPAQUE
SUMMARY:Percussion Camp – Marching Band
DESCRIPTION:
URL:https://fishersband.org/events/percussion-camp-marching-band
CATEGORIES:Marching Band,Percussion
END:VEVENT
END:VCALENDAR
